BEGIN:VCALENDAR
PRODID:-//AT Content Types//AT Event//EN
VERSION:2.0
METHOD:PUBLISH
BEGIN:VEVENT
DTSTAMP:20260425T021454Z
CREATED:20160720T144528Z
UID:ATEvent-93135141d4e649829b8f9dee0ea07b56
LAST-MODIFIED:20160720T144544Z
SUMMARY:La filiera agroalimentare in provincia di Pavia
DTSTART:20160726T130000Z
DTEND:20160726T160000Z
LOCATION:Pavia
CLASS:PUBLIC
END:VEVENT
END:VCALENDAR
