BEGIN:VCALENDAR
PRODID:-//AT Content Types//AT Event//EN
VERSION:1.0
BEGIN:VEVENT
DTSTART:20240620T150000Z
DTEND:20240620T170000Z
DCREATED:20240610T150500Z
UID:ATEvent-6c28631eb3804c18a42c88b77d8ceb20
SEQUENCE:0
LAST-MODIFIED:20240610T150614Z
SUMMARY:La creazione di valore nell'azienda familiare
DESCRIPTION:Perché la creazione di valore non è solo strategia\, ma 
 mentalità\, approccio e disciplina
LOCATION:Brescia
PRIORITY:3
TRANSP:0
END:VEVENT
END:VCALENDAR
