BEGIN:VCALENDAR
PRODID:-//AT Content Types//AT Event//EN
VERSION:1.0
BEGIN:VEVENT
DTSTART:20170406T144500Z
DTEND:20170406T173000Z
DCREATED:20170331T141227Z
UID:ATEvent-d4ab1203a3e145ff823684b54e71daea
SEQUENCE:0
LAST-MODIFIED:20170331T141614Z
SUMMARY:La continuità del business
LOCATION:Dalmine (BG)
PRIORITY:3
TRANSP:0
END:VEVENT
END:VCALENDAR
