BEGIN:VCALENDAR
PRODID:-//AT Content Types//AT Event//EN
VERSION:2.0
METHOD:PUBLISH
BEGIN:VEVENT
DTSTAMP:20260425T140846Z
CREATED:20160830T133412Z
UID:ATEvent-56c140057dda4ef888518c57c366e249
LAST-MODIFIED:20160830T133451Z
SUMMARY:La COMPLIANCE come elemento per accrescere la competitività aziendale
DTSTART:20160915T130000Z
DTEND:20160915T160000Z
DESCRIPTION:Workshop di formazione gratuito
LOCATION:Mantova
CLASS:PUBLIC
END:VEVENT
END:VCALENDAR
