BEGIN:VCALENDAR
PRODID:-//AT Content Types//AT Event//EN
VERSION:1.0
BEGIN:VEVENT
DTSTART:20230222T173000Z
DTEND:20230222T200000Z
DCREATED:20230220T180151Z
UID:ATEvent-ec5da2879d0d4cd98b9056e78fe68e2e
SEQUENCE:0
LAST-MODIFIED:20230220T180226Z
SUMMARY:La certificazione della parità di genere come opportunità
LOCATION:Brescia
PRIORITY:3
TRANSP:0
END:VEVENT
END:VCALENDAR
