BEGIN:VCALENDAR
PRODID:-//AT Content Types//AT Event//EN
VERSION:2.0
METHOD:PUBLISH
BEGIN:VEVENT
DTSTAMP:20260426T041721Z
CREATED:20161026T131638Z
UID:ATEvent-26624914e1c04112a077181a44e388e0
LAST-MODIFIED:20161026T131755Z
SUMMARY:La Centrale Rischi: uno degli strumenti per gestire e migliorare il mio rating (e quindi avere credito migliore)
DTSTART:20161109T160000Z
DTEND:20161109T183000Z
DESCRIPTION:Presentazione Progetto "Cultura e competenza finanziaria"
LOCATION:Como
CLASS:PUBLIC
END:VEVENT
END:VCALENDAR
