BEGIN:VCALENDAR
PRODID:-//AT Content Types//AT Event//EN
VERSION:1.0
BEGIN:VEVENT
DTSTART:20160629T123000Z
DTEND:20160629T153000Z
DCREATED:20160530T161205Z
UID:ATEvent-f2f5a8e084b94a4dbdd4103c0eae0c83
SEQUENCE:0
LAST-MODIFIED:20160530T161235Z
SUMMARY:La centrale rischi: questa sconosciuta
LOCATION:Monza
PRIORITY:3
TRANSP:0
END:VEVENT
END:VCALENDAR
