BEGIN:VCALENDAR
PRODID:-//AT Content Types//AT Event//EN
VERSION:1.0
BEGIN:VEVENT
DTSTART:20221018T150000Z
DTEND:20221018T170000Z
DCREATED:20221013T074840Z
UID:ATEvent-340b102b803c48af8123c031199c2f3f
SEQUENCE:0
LAST-MODIFIED:20221014T181921Z
SUMMARY:Internazionalizzazione e commercio estero\, gli strumenti a disposizione delle imprese
DESCRIPTION:Nuovo appuntamento del ciclo di incontri "Figli del Capo" 
 dedicato a figli di imprenditori.
LOCATION:Milano
PRIORITY:3
TRANSP:0
END:VEVENT
END:VCALENDAR
