BEGIN:VCALENDAR
PRODID:-//AT Content Types//AT Event//EN
VERSION:1.0
BEGIN:VEVENT
DTSTART:20210412T150000Z
DTEND:20210412T170000Z
DCREATED:20210409T124404Z
UID:ATEvent-e49996c0b5d3424eaf82974a830df85e
SEQUENCE:0
LAST-MODIFIED:20210409T124408Z
SUMMARY:L’Open Innovation nel mercato del B2B
DESCRIPTION:Terzo appuntamento dell'Open Innovation Academy
LOCATION:On line
PRIORITY:3
TRANSP:0
END:VEVENT
END:VCALENDAR
