BEGIN:VCALENDAR
PRODID:-//AT Content Types//AT Event//EN
VERSION:2.0
METHOD:PUBLISH
BEGIN:VEVENT
DTSTAMP:20260425T142455Z
CREATED:20211005T143341Z
UID:ATEvent-f4e114b80a964447a9c4c9df45de20f4
LAST-MODIFIED:20211005T143347Z
SUMMARY:L’Inps di Pavia incontra le aziende
DTSTART:20211006T080000Z
DTEND:20211006T100000Z
DESCRIPTION:Incontro dedicato alla normativa sugli ammortizzatori soci
 ali\, al passaggio dal Pin allo Spid e alla gestione delle quarantene.
 
LOCATION:On line
CLASS:PUBLIC
END:VEVENT
END:VCALENDAR
