BEGIN:VCALENDAR
PRODID:-//AT Content Types//AT Event//EN
VERSION:2.0
METHOD:PUBLISH
BEGIN:VEVENT
DTSTAMP:20260424T092817Z
CREATED:20210907T153806Z
UID:ATEvent-175ed29e4aae4381b98ae871d6d5e35b
LAST-MODIFIED:20210907T153814Z
SUMMARY:L’Inps di Lodi incontra le aziende
DTSTART:20210915T080000Z
DTEND:20210915T093000Z
LOCATION:On line
CLASS:PUBLIC
END:VEVENT
END:VCALENDAR
