BEGIN:VCALENDAR
PRODID:-//AT Content Types//AT Event//EN
VERSION:2.0
METHOD:PUBLISH
BEGIN:VEVENT
DTSTAMP:20260421T082632Z
CREATED:20240614T153517Z
UID:ATEvent-1de8ccdd47fc4850a31580af31f96603
LAST-MODIFIED:20240614T153528Z
SUMMARY:L’Inail di Monza incontra le imprese del territorio
DTSTART:20240618T080000Z
DTEND:20240618T103000Z
DESCRIPTION:Incontro in presenza presso la sede di Monza di Assolombar
 da.
LOCATION:Milano
CLASS:PUBLIC
END:VEVENT
END:VCALENDAR
