BEGIN:VCALENDAR
PRODID:-//AT Content Types//AT Event//EN
VERSION:1.0
BEGIN:VEVENT
DTSTART:20230529T150000Z
DTEND:20230529T163000Z
DCREATED:20230522T150130Z
UID:ATEvent-583bd304687041bc8f4e06e4d455247e
SEQUENCE:0
LAST-MODIFIED:20230529T082311Z
SUMMARY:L’impresa in transizione - Incontro nel palinsesto degli eventi di Pavia Capitale della Cultura d'Impresa 2023
DESCRIPTION:Incontro dedicato alle imprese in cui saranno affrontati g
 li scenari di cambiamento relativi alle innovazioni tecnologiche e all
 'organizzazione.
LOCATION:Pavia
PRIORITY:3
TRANSP:0
END:VEVENT
END:VCALENDAR
