BEGIN:VCALENDAR
PRODID:-//AT Content Types//AT Event//EN
VERSION:1.0
BEGIN:VEVENT
DTSTART:20210330T160000Z
DTEND:20210330T173000Z
DCREATED:20210324T203528Z
UID:ATEvent-32a553d8d19b4958af3a9d173352b658
SEQUENCE:0
LAST-MODIFIED:20210324T203617Z
SUMMARY:L’Imprenditore: attore fondamentale dell’economia o un cinico orientato solo al profitto?
LOCATION:On line
PRIORITY:3
TRANSP:0
END:VEVENT
END:VCALENDAR
