BEGIN:VCALENDAR
PRODID:-//AT Content Types//AT Event//EN
VERSION:2.0
METHOD:PUBLISH
BEGIN:VEVENT
DTSTAMP:20260424T155137Z
CREATED:20210118T155227Z
UID:ATEvent-e582a8d782b7474eb711798139c6ea2d
LAST-MODIFIED:20210118T155231Z
SUMMARY:L’importanza del Life Cycle Assessment per una piena applicazione del modello circolare
DTSTART:20210119T083000Z
DTEND:20210119T103000Z
LOCATION:On line
CLASS:PUBLIC
END:VEVENT
END:VCALENDAR
