BEGIN:VCALENDAR
PRODID:-//AT Content Types//AT Event//EN
VERSION:2.0
METHOD:PUBLISH
BEGIN:VEVENT
DTSTAMP:20260421T093257Z
CREATED:20220718T163022Z
UID:ATEvent-8b7f7919b48c40119a11f57b6d6420f5
LAST-MODIFIED:20220718T163116Z
SUMMARY:L’impatto della digital transformation nel mondo della ricerca clinica e preclinica: decentralized & in-silico trials
DTSTART:20220721T143000Z
DTEND:20220721T160000Z
LOCATION:On line
CLASS:PUBLIC
END:VEVENT
END:VCALENDAR
