BEGIN:VCALENDAR
PRODID:-//AT Content Types//AT Event//EN
VERSION:1.0
BEGIN:VEVENT
DTSTART:20230718T150000Z
DTEND:20230718T163000Z
DCREATED:20230705T103536Z
UID:ATEvent-51829c79dd5648c3981527559399581e
SEQUENCE:0
LAST-MODIFIED:20230705T105147Z
SUMMARY:L’ecosistema della formazione
DESCRIPTION:Dibattito sullo sviluppo organizzativo e la formazione al 
 tempo della twin transition.
LOCATION:Milano
PRIORITY:3
TRANSP:0
END:VEVENT
END:VCALENDAR
