BEGIN:VCALENDAR
PRODID:-//AT Content Types//AT Event//EN
VERSION:2.0
METHOD:PUBLISH
BEGIN:VEVENT
DTSTAMP:20260425T210429Z
CREATED:20160614T143845Z
UID:ATEvent-9ba6c62f5e9d47e986cc1d3734abaafe
LAST-MODIFIED:20160616T161132Z
SUMMARY:L’arte di competere sui mercati globali
DTSTART:20160627T143000Z
DTEND:20160627T163000Z
LOCATION:Bergamo
CLASS:PUBLIC
END:VEVENT
END:VCALENDAR
