BEGIN:VCALENDAR
PRODID:-//AT Content Types//AT Event//EN
VERSION:1.0
BEGIN:VEVENT
DTSTART:20150930T130000Z
DTEND:20150930T160000Z
DCREATED:20150910T195737Z
UID:ATEvent-e7494e87d55f47ada05fc03c91209194
SEQUENCE:0
LAST-MODIFIED:20150910T202751Z
SUMMARY:L’acquisto e la gestione consapevole dei vettori energetici: opportunità di risparmio economico per le imprese.
LOCATION:Mantova
PRIORITY:3
TRANSP:0
END:VEVENT
END:VCALENDAR
