BEGIN:VCALENDAR
PRODID:-//AT Content Types//AT Event//EN
VERSION:2.0
METHOD:PUBLISH
BEGIN:VEVENT
DTSTAMP:20260424T081930Z
CREATED:20150923T235320Z
UID:ATEvent-c74282e40b614ea482c5c5beed825e88
LAST-MODIFIED:20150923T235511Z
SUMMARY:L’acquisto e la gestione consapevole dei vettori energetici: opportunità di risparmio economico per le imprese
DTSTART:20150930T130000Z
DTEND:20150930T160000Z
LOCATION:Mantova
CLASS:PUBLIC
END:VEVENT
END:VCALENDAR
