BEGIN:VCALENDAR
PRODID:-//AT Content Types//AT Event//EN
VERSION:1.0
BEGIN:VEVENT
DTSTART:20241016T070000Z
DTEND:20241016T090000Z
DCREATED:20241007T104335Z
UID:ATEvent-dac518c911d04b9db5c35c7c7cbfc2bd
SEQUENCE:0
LAST-MODIFIED:20241007T124006Z
SUMMARY:L' assistenza al contribuente e i servizi dell'Agenzia delle Entrate: incontro con la Direzione Provinciale di Bergamo
LOCATION:online
PRIORITY:3
TRANSP:0
END:VEVENT
END:VCALENDAR
