BEGIN:VCALENDAR
PRODID:-//AT Content Types//AT Event//EN
VERSION:1.0
BEGIN:VEVENT
DTSTART:20151020T130000Z
DTEND:20151020T160000Z
DCREATED:20151016T131105Z
UID:ATEvent-8a87c483036c4b0e88dc0f76a9659317
SEQUENCE:0
LAST-MODIFIED:20151016T131116Z
SUMMARY:IVA 2015: novità e chiarimenti
DESCRIPTION:Incontro organizzato con gli Ordini dei Commercialisti e d
 egli Esperti Contabili.
LOCATION:Pavia
PRIORITY:3
TRANSP:0
END:VEVENT
END:VCALENDAR
