BEGIN:VCALENDAR
PRODID:-//AT Content Types//AT Event//EN
VERSION:1.0
BEGIN:VEVENT
DTSTART:20160718T153000Z
DTEND:20160718T170000Z
DCREATED:20160711T155405Z
UID:ATEvent-cac6d23f75a64b29bdeebc9bb7ab98ce
SEQUENCE:0
LAST-MODIFIED:20160711T155424Z
SUMMARY:Italia e Singapore. Le differenze che avvicinano
DESCRIPTION:Dibattito in occasione della presentazione del nuovo libro
  dell'associazione Italia-Asean.
LOCATION:Milano
PRIORITY:3
TRANSP:0
END:VEVENT
END:VCALENDAR
