BEGIN:VCALENDAR
PRODID:-//AT Content Types//AT Event//EN
VERSION:1.0
BEGIN:VEVENT
DTSTART:20210331T160000Z
DTEND:20210331T173000Z
DCREATED:20210324T223139Z
UID:ATEvent-2fd69a19ad7f4bc9bc08771f1a7d2f1a
SEQUENCE:0
LAST-MODIFIED:20210324T223144Z
SUMMARY:Italia e Germania\, una sfida europea
LOCATION:On line
PRIORITY:3
TRANSP:0
END:VEVENT
END:VCALENDAR
