BEGIN:VCALENDAR
PRODID:-//AT Content Types//AT Event//EN
VERSION:2.0
METHOD:PUBLISH
BEGIN:VEVENT
DTSTAMP:20260421T134816Z
CREATED:20230522T154908Z
UID:ATEvent-bea07a08bbde41a7a1fe840c1db5e7f4
LAST-MODIFIED:20230529T082349Z
SUMMARY:Italia - Cina: la ripartenza delle relazioni commerciali e prospettive ed opportunità nella Regione dello Zhejiang
DTSTART:20230530T073000Z
DTEND:20230530T093000Z
DESCRIPTION:Durante l'incontro parleremo della ripartenza delle relazi
 oni commerciali fra Italia e Cina nella Regione dello Zhejiang\, tra l
 e più avanzate sia dal punto di vista tecnologico sia industriale
LOCATION:Milano\, On line
CLASS:PUBLIC
END:VEVENT
END:VCALENDAR
