BEGIN:VCALENDAR
PRODID:-//AT Content Types//AT Event//EN
VERSION:1.0
BEGIN:VEVENT
DTSTART:20160323T130000Z
DTEND:20160323T160000Z
DCREATED:20160315T170519Z
UID:ATEvent-57c5ba0dbd0e46aeb6ad25380796f241
SEQUENCE:0
LAST-MODIFIED:20160315T170829Z
SUMMARY:Ispezioni ASL /ATS e percorsi innovativi per la sicurezza sul lavoro
LOCATION:Bergamo
PRIORITY:3
TRANSP:0
END:VEVENT
END:VCALENDAR
