BEGIN:VCALENDAR
PRODID:-//AT Content Types//AT Event//EN
VERSION:2.0
METHOD:PUBLISH
BEGIN:VEVENT
DTSTAMP:20260424T054335Z
CREATED:20180426T154408Z
UID:ATEvent-1a6f4dfa8fc94469adb85d57da8b64af
LAST-MODIFIED:20180507T144847Z
SUMMARY:ISO9001@Impresa 4.0 - Due leve al servizio della competitività
DTSTART:20180516T080000Z
DTEND:20180516T110000Z
LOCATION:Milano
CLASS:PUBLIC
END:VEVENT
END:VCALENDAR
