BEGIN:VCALENDAR
PRODID:-//AT Content Types//AT Event//EN
VERSION:2.0
METHOD:PUBLISH
BEGIN:VEVENT
DTSTAMP:20260423T194132Z
CREATED:20171003T124007Z
UID:ATEvent-0c2170b074734d3ca7dd28b8a73e4563
LAST-MODIFIED:20171003T124216Z
SUMMARY:Iraq conference for business and investments
DTSTART:20171011T080000Z
DTEND:20171011T110000Z
LOCATION:Milano
CLASS:PUBLIC
END:VEVENT
END:VCALENDAR
