BEGIN:VCALENDAR
PRODID:-//AT Content Types//AT Event//EN
VERSION:2.0
METHOD:PUBLISH
BEGIN:VEVENT
DTSTAMP:20260425T023407Z
CREATED:20151021T164432Z
UID:ATEvent-c802abb0a0744b009984f7249413cc53
LAST-MODIFIED:20151021T164516Z
SUMMARY:IOT : la rivoluzione dell'internet of things
DTSTART:20151026T090000Z
DTEND:20151026T130000Z
LOCATION:Sondrio
CLASS:PUBLIC
END:VEVENT
END:VCALENDAR
