BEGIN:VCALENDAR
PRODID:-//AT Content Types//AT Event//EN
VERSION:2.0
METHOD:PUBLISH
BEGIN:VEVENT
DTSTAMP:20260425T124404Z
CREATED:20220617T124221Z
UID:ATEvent-0da7ae2ee3e24a0cb990622228ed107a
LAST-MODIFIED:20220617T124225Z
SUMMARY:Introduzione al PNRR\, al Codice dei Contratti Pubblici e al mercato delle PA
DTSTART:20220622T070000Z
DTEND:20220622T083000Z
DESCRIPTION:1° incontro del ciclo di webinar: "PNRR e affidamenti pub
 blici: una partecipazione consapevole"
LOCATION:On line
CLASS:PUBLIC
END:VEVENT
END:VCALENDAR
