BEGIN:VCALENDAR
PRODID:-//AT Content Types//AT Event//EN
VERSION:2.0
METHOD:PUBLISH
BEGIN:VEVENT
DTSTAMP:20260421T190639Z
CREATED:20231013T123002Z
UID:ATEvent-bd4ad5cc256d47f189d26e6de2813571
LAST-MODIFIED:20231013T123011Z
SUMMARY:Introduzione ai mercati finanziari e scenari
DTSTART:20231020T070000Z
DTEND:20231020T090000Z
DESCRIPTION:Primo appuntamento del ciclo di webinar "Educazione finanz
 iaria e gestione della liquidità aziendale"
LOCATION:Online
CLASS:PUBLIC
END:VEVENT
END:VCALENDAR
