BEGIN:VCALENDAR
PRODID:-//AT Content Types//AT Event//EN
VERSION:1.0
BEGIN:VEVENT
DTSTART:20230628T071500Z
DTEND:20230628T093000Z
DCREATED:20230621T135130Z
UID:ATEvent-d57ff5b8b296492582f7a01f441de97c
SEQUENCE:0
LAST-MODIFIED:20230621T135248Z
SUMMARY:Intrastat - la corretta compilazione dei modelli riepilogativi degli scambi intracomunitari
DESCRIPTION:Secondo appuntamento dell’edizione 2023 del ciclo “App
 rofondimenti Fiscali - Iva Estero”
LOCATION:On line
PRIORITY:3
TRANSP:0
END:VEVENT
END:VCALENDAR
