BEGIN:VCALENDAR
PRODID:-//AT Content Types//AT Event//EN
VERSION:2.0
METHOD:PUBLISH
BEGIN:VEVENT
DTSTAMP:20260424T181924Z
CREATED:20180130T170531Z
UID:ATEvent-2e7dcf8f41e24605884f044a7d36bfcc
LAST-MODIFIED:20180130T170843Z
SUMMARY:Intrastat 2018: le principali novità
DTSTART:20180220T080000Z
DTEND:20180220T120000Z
DESCRIPTION:Organizzato da Confindustria Alto Milanese\, in collaboraz
 ione con Camera di Commercio di Milano\, Unioncamere Lombardia e PROMO
 S
LOCATION:Legnano (MI)
CLASS:PUBLIC
END:VEVENT
END:VCALENDAR
