BEGIN:VCALENDAR
PRODID:-//AT Content Types//AT Event//EN
VERSION:2.0
METHOD:PUBLISH
BEGIN:VEVENT
DTSTAMP:20260425T130640Z
CREATED:20161028T132250Z
UID:ATEvent-ca47e6c3baf34b49bad18794aa4ccbcf
LAST-MODIFIED:20161104T102248Z
SUMMARY:Intraprendere l'Alternanza
DTSTART:20161107T080000Z
DTEND:20161107T113000Z
LOCATION:Milano
CLASS:PUBLIC
END:VEVENT
END:VCALENDAR
