BEGIN:VCALENDAR
PRODID:-//AT Content Types//AT Event//EN
VERSION:1.0
BEGIN:VEVENT
DTSTART:20211220T100000Z
DTEND:20211220T110000Z
DCREATED:20211215T000702Z
UID:ATEvent-9aed1dfb6be7433cb5604cffa02a8806
SEQUENCE:0
LAST-MODIFIED:20211215T000717Z
SUMMARY:Intersecare le linee di intervento del PNRR per finanziare competitività e transizione della meccatronica lombarda
DESCRIPTION:1° incontro del ciclo: "Meccatronica e PNRR. Let's go pra
 ctical"
LOCATION:On line
PRIORITY:3
TRANSP:0
END:VEVENT
END:VCALENDAR
