BEGIN:VCALENDAR
PRODID:-//AT Content Types//AT Event//EN
VERSION:1.0
BEGIN:VEVENT
DTSTART:20151020T073000Z
DTEND:20151020T110000Z
DCREATED:20151006T160114Z
UID:ATEvent-f8265e1d9d1f4caeb545efe12ee1ce18
SEQUENCE:0
LAST-MODIFIED:20151006T160237Z
SUMMARY:Internet come strumento per l’internazionalizzazione
DESCRIPTION:Organizzato da Confindustria Alto Milanese\, in collaboraz
 ione con Camera di Commercio di Milano\, PROMOS ed Unioncamere Lombard
 ia
LOCATION:Legnano (MI)
PRIORITY:3
TRANSP:0
END:VEVENT
END:VCALENDAR
