BEGIN:VCALENDAR
PRODID:-//AT Content Types//AT Event//EN
VERSION:2.0
METHOD:PUBLISH
BEGIN:VEVENT
DTSTAMP:20260421T164638Z
CREATED:20180222T153735Z
UID:ATEvent-73b16b7dbe2d497d8ad7b2a5631e3e7f
LAST-MODIFIED:20180222T153820Z
SUMMARY:Internazionalizzazione - Imprenditori e Avvocati insieme per conquistare i mercati esteri
DTSTART:20180301T140000Z
DTEND:20180301T171500Z
LOCATION:Brescia
CLASS:PUBLIC
END:VEVENT
END:VCALENDAR
