BEGIN:VCALENDAR
PRODID:-//AT Content Types//AT Event//EN
VERSION:2.0
METHOD:PUBLISH
BEGIN:VEVENT
DTSTAMP:20260423T165006Z
CREATED:20170925T140934Z
UID:ATEvent-3a91e7f61b914135bee7a0c127701f2c
LAST-MODIFIED:20170925T141019Z
SUMMARY:Internazionalizzazione dell’impresa: riflessi fiscali sul reddito di lavoro dipendente
DTSTART:20171011T153000Z
DTEND:20171011T173000Z
DESCRIPTION:Ciclo di incontri "Internazionalizzarsi per competere al m
 eglio 5.0"
LOCATION:Bergamo
CLASS:PUBLIC
END:VEVENT
END:VCALENDAR
