BEGIN:VCALENDAR
PRODID:-//AT Content Types//AT Event//EN
VERSION:1.0
BEGIN:VEVENT
DTSTART:20161129T090000Z
DTEND:20161129T120000Z
DCREATED:20161128T113114Z
UID:ATEvent-cfdadd0b68374db185f3544cca4c2dad
SEQUENCE:0
LAST-MODIFIED:20161128T113254Z
SUMMARY:Internazionalizzazione: come finanziare la tua azienda
LOCATION:Milano
PRIORITY:3
TRANSP:0
END:VEVENT
END:VCALENDAR
