BEGIN:VCALENDAR
PRODID:-//AT Content Types//AT Event//EN
VERSION:2.0
METHOD:PUBLISH
BEGIN:VEVENT
DTSTAMP:20260424T054854Z
CREATED:20200527T081718Z
UID:ATEvent-10905f1b393646e2b9b899ec768cdd99
LAST-MODIFIED:20200605T093312Z
SUMMARY:INTERNAZIONALIZZAZIONE 4.0: analisi giuridica degli strumenti digitali per rilanciare l’impresa sui mercati esteri
DTSTART:20200605T123000Z
DTEND:20200605T143000Z
DESCRIPTION:Primo incontro - INTERNAZIONALIZZAZIONE 4.0: Digital marke
 ting
LOCATION:Webinar
CLASS:PUBLIC
END:VEVENT
END:VCALENDAR
