BEGIN:VCALENDAR
PRODID:-//AT Content Types//AT Event//EN
VERSION:1.0
BEGIN:VEVENT
DTSTART:20180704T134500Z
DTEND:20180704T163000Z
DCREATED:20180629T102206Z
UID:ATEvent-aa64f3cb7adf44788071ae8060a5331d
SEQUENCE:0
LAST-MODIFIED:20180629T102220Z
SUMMARY:Intelligenza artificiale: opportunità e casi concreti di utilizzo nelle attività manageriali
LOCATION:Milano
PRIORITY:3
TRANSP:0
END:VEVENT
END:VCALENDAR
