BEGIN:VCALENDAR
PRODID:-//AT Content Types//AT Event//EN
VERSION:1.0
BEGIN:VEVENT
DTSTART:20231023T100000Z
DTEND:20231023T113000Z
DCREATED:20231020T152852Z
UID:ATEvent-42ed0e13bad24b9b87765dcb3203d798
SEQUENCE:0
LAST-MODIFIED:20231020T152930Z
SUMMARY:Insieme per un lavoro sicuro
DESCRIPTION:Evento di apertura della Settimana Europea per la Sicurezz
 a e la Salute sul lavoro in Lombardia
LOCATION:Milano
PRIORITY:3
TRANSP:0
END:VEVENT
END:VCALENDAR
