BEGIN:VCALENDAR
PRODID:-//AT Content Types//AT Event//EN
VERSION:1.0
BEGIN:VEVENT
DTSTART:20241021T143000Z
DTEND:20241021T173000Z
DCREATED:20241016T143215Z
UID:ATEvent-62cee13b0fc640299a6e86a6551a05c1
SEQUENCE:0
LAST-MODIFIED:20241017T154901Z
SUMMARY:Insieme per un lavoro sano e sicuro
DESCRIPTION:Settimana Europea per la sicurezza e la salute sul lavoro.
 
LOCATION:Milano
PRIORITY:3
TRANSP:0
END:VEVENT
END:VCALENDAR
