BEGIN:VCALENDAR
PRODID:-//AT Content Types//AT Event//EN
VERSION:1.0
BEGIN:VEVENT
DTSTART:20161109T080000Z
DTEND:20161109T110000Z
DCREATED:20161026T152012Z
UID:ATEvent-de0824ac246946fc8a0fc33803796e03
SEQUENCE:0
LAST-MODIFIED:20161026T152042Z
SUMMARY:Innovazione digitale: tocca alle imprese tracciare il proprio percorso
LOCATION:Bergamo
PRIORITY:3
TRANSP:0
END:VEVENT
END:VCALENDAR
