BEGIN:VCALENDAR
PRODID:-//AT Content Types//AT Event//EN
VERSION:1.0
BEGIN:VEVENT
DTSTART:20210331T123000Z
DTEND:20210331T140000Z
DCREATED:20210324T222706Z
UID:ATEvent-9fefa2e062a24897bfd301062f8e7019
SEQUENCE:0
LAST-MODIFIED:20210324T222720Z
SUMMARY:Innovazione digitale nel settore alimentazione: un percorso
LOCATION:On line
PRIORITY:3
TRANSP:0
END:VEVENT
END:VCALENDAR
