BEGIN:VCALENDAR
PRODID:-//AT Content Types//AT Event//EN
VERSION:2.0
METHOD:PUBLISH
BEGIN:VEVENT
DTSTAMP:20260421T103712Z
CREATED:20220322T192523Z
UID:ATEvent-dcfd95a389204474aac37b6c9a74a78f
LAST-MODIFIED:20220322T230344Z
SUMMARY:Innovazione digitale: dall’intento all’impatto
DTSTART:20220323T160000Z
DTEND:20220323T173000Z
LOCATION:On line
CLASS:PUBLIC
END:VEVENT
END:VCALENDAR
