BEGIN:VCALENDAR
PRODID:-//AT Content Types//AT Event//EN
VERSION:1.0
BEGIN:VEVENT
DTSTART:20171006T123000Z
DTEND:20171006T140000Z
DCREATED:20170925T125823Z
UID:ATEvent-1d2cbd3697d04f85871faf8741cfaf8e
SEQUENCE:0
LAST-MODIFIED:20170925T125900Z
SUMMARY:Innovation match making
DESCRIPTION:SafeSpeed: tecnologia per massimizzare le performance dei 
 microprocessori
LOCATION:Webinar
PRIORITY:3
TRANSP:0
END:VEVENT
END:VCALENDAR
