BEGIN:VCALENDAR
PRODID:-//AT Content Types//AT Event//EN
VERSION:2.0
METHOD:PUBLISH
BEGIN:VEVENT
DTSTAMP:20260424T090322Z
CREATED:20190618T163256Z
UID:ATEvent-97609833d5e1411ea9ed3081e2c4e36d
LAST-MODIFIED:20190620T161854Z
SUMMARY:Innovation Days
DTSTART:20190620T063000Z
DTEND:20190620T110000Z
LOCATION:Milano
CLASS:PUBLIC
END:VEVENT
END:VCALENDAR
