BEGIN:VCALENDAR
PRODID:-//AT Content Types//AT Event//EN
VERSION:1.0
BEGIN:VEVENT
DTSTART:20200714T073000Z
DTEND:20200714T110000Z
DCREATED:20200626T101032Z
UID:ATEvent-19fc6518dcac450e904e0b9b43849264
SEQUENCE:0
LAST-MODIFIED:20200706T130052Z
SUMMARY:Innovation Days Lombardia
DESCRIPTION:La Lombardia che riparte
LOCATION:Live Streaming
PRIORITY:3
TRANSP:0
END:VEVENT
END:VCALENDAR
