BEGIN:VCALENDAR
PRODID:-//AT Content Types//AT Event//EN
VERSION:2.0
METHOD:PUBLISH
BEGIN:VEVENT
DTSTAMP:20260424T053113Z
CREATED:20230619T100439Z
UID:ATEvent-196888323c6a4de98421d46753cd5781
LAST-MODIFIED:20230620T145507Z
SUMMARY:Iniziative UE per la trasformazione sostenibile: quale impatto per le PMI
DTSTART:20230627T140000Z
DTEND:20230627T160000Z
LOCATION:On line
CLASS:PUBLIC
END:VEVENT
END:VCALENDAR
